BEGIN:VCALENDAR
VERSION:2.0
PRODID:-//Wisma Jerman - ECPv6.9.0//NONSGML v1.0//EN
CALSCALE:GREGORIAN
METHOD:PUBLISH
X-WR-CALNAME:Wisma Jerman
X-ORIGINAL-URL:https://wisma-jerman.or.id
X-WR-CALDESC:Events for Wisma Jerman
REFRESH-INTERVAL;VALUE=DURATION:PT1H
X-Robots-Tag:noindex
X-PUBLISHED-TTL:PT1H
BEGIN:VTIMEZONE
TZID:Asia/Jakarta
BEGIN:STANDARD
TZOFFSETFROM:+0700
TZOFFSETTO:+0700
TZNAME:WIB
DTSTART:20250101T000000
END:STANDARD
END:VTIMEZONE
BEGIN:VEVENT
DTSTART;TZID=Asia/Jakarta:20250621T160000
DTEND;TZID=Asia/Jakarta:20250625T180000
DTSTAMP:20260424T184554
CREATED:20260409T061356Z
LAST-MODIFIED:20260409T061356Z
UID:8423-1750521600-1750874400@wisma-jerman.or.id
SUMMARY:LA WET OLEH DANIEL KHO
DESCRIPTION:Halo sobat Wisjer\,\nmenyambut Hari Lingkungan Hidup yang jatuh pada setiap 5 Juni ini Wisma Jerman menghadirkan acara yang sungguh sangat menarik lho!\n\n“LA WET OLEH DANIEL KHO”\, sebuah pameran tunggal karya Daniel Kho. Daniel Kho adalah salah seorang perupa Indonesia. Pada awal tahun 1970-an\, ia belajar sendiri teknik membatik\, seni pahat dan seni lukis. Pada tahun 1977 ia pindah ke Jerman. Pada tahun 1998 ia menerima beasiswa dari Jacob Eschweiler Art Foundation\, Jerman. Pada 2002\, ia mendirikan The Shadow Theatre of Kho di Cologne. Sejak tahun 2012 tinggal dan berkarya di Bali\, Barcelona\, dan Cologne. Nah\, karyanya dalam menyambut Hari Lingkungan Hidup sedunia ini berjudul “LA WET”\, yang artinya pohon adalah sebagai simbol dari kehidupan. Pohon\, hutan dan alam berperan sebagai penyanggah kehidupan dengan menyediakan oksigen dan rumah bagi mahluk hidup.\nPenasaran seperti apa sih karya-karyanya? Yuk datang aja ramai-ramai ke Wisma Jerman.\n\nLA WET OLEH DANIEL KHO (21-25 Juni 2025) Pembukaan: Sabtu\, 21 Juni 2025 pukul 16.00 WIB\nBermain Dengan Warna (untuk anak-anak): Minggu\, 22 Juni 2025 pukul 09.00-12.00 WIB (kuota terbatas max. 15 orang)\nArtist Talk bersama Daniel Kho dan Ayos Purwoaji (moderator): Senin\, 23 Juni 2025 pukul 18.30-20.00 WIB\nKuratorial Tour bersama Daniel Kho: Selasa\, 24 Juni 2025 mulai pukul 16.00 WIB.\n\nInfo: 081233701773 (WA only)\nGRATIS dan TERBUKA UNTUK UMUM Acara ini didukung oleh Leeven & Co\, Aiola Eatery\, Aria Centra Hotel\, KLIK FM dan Artchemist.
URL:https://wisma-jerman.or.id/event/la-wet-oleh-daniel-kho/
LOCATION:Jawa Timur
CATEGORIES:Diskusi Interaktif,Exhibition
ATTACH;FMTTYPE=image/jpeg:https://wisma-jerman.or.id/wp-content/uploads/2026/04/Draft-Poster-DANIEL-KHO.jpg
END:VEVENT
END:VCALENDAR