BEGIN:VCALENDAR
VERSION:2.0
PRODID:-//Wisma Jerman - ECPv6.9.0//NONSGML v1.0//EN
CALSCALE:GREGORIAN
METHOD:PUBLISH
X-ORIGINAL-URL:https://wisma-jerman.or.id
X-WR-CALDESC:Events for Wisma Jerman
REFRESH-INTERVAL;VALUE=DURATION:PT1H
X-Robots-Tag:noindex
X-PUBLISHED-TTL:PT1H
BEGIN:VTIMEZONE
TZID:Asia/Jakarta
BEGIN:STANDARD
TZOFFSETFROM:+0700
TZOFFSETTO:+0700
TZNAME:WIB
DTSTART:20250101T000000
END:STANDARD
END:VTIMEZONE
BEGIN:VEVENT
DTSTART;TZID=Asia/Jakarta:20250507T180000
DTEND;TZID=Asia/Jakarta:20250507T200000
DTSTAMP:20260422T050042
CREATED:20260409T081810Z
LAST-MODIFIED:20260409T081810Z
UID:8433-1746640800-1746648000@wisma-jerman.or.id
SUMMARY:Meet and Greet Online
DESCRIPTION:
URL:https://wisma-jerman.or.id/event/meet-and-greet-online/
LOCATION:Wisma Jerman\, Surabaya\, Jl. Taman AIS Nasution No.15\, Embong Kaliasin\, Kec. Genteng\,\, Surabaya\, Jawa Timur\, 60271\, Indonesia
CATEGORIES:Diskusi Interaktif,Seminar Online
ATTACH;FMTTYPE=image/jpeg:https://wisma-jerman.or.id/wp-content/uploads/2026/04/Meet-and-Greet-IG-Post.jpg
END:VEVENT
BEGIN:VEVENT
DTSTART;TZID=Asia/Jakarta:20250514T160000
DTEND;TZID=Asia/Jakarta:20250515T220000
DTSTAMP:20260422T050042
CREATED:20260409T074934Z
LAST-MODIFIED:20260409T074934Z
UID:8425-1747238400-1747346400@wisma-jerman.or.id
SUMMARY:RITUS NEGERI CELENG
DESCRIPTION:Memasuki bulan Mei 2025\, Wisma Jerman mengadakan sebuah program seni bekerjasama dengan Dinas Kebudayaan dan Pariwisata Provinsi Jawa Timur. Acara ini menghadirkan “Dimar Dance Theatre” (DDT). Ini merupakan pertunjukan kali kedua\, setelah sebelumnya pada tahun 2023 lalu.\n\n\nPada kali ini\, DDT akan menampilkan karya berjudul “RITUS NEGERI CELENG”. Karya ini berangkat dari nuansa tradisi yang dibalut dengan garapan kontemporer dengan harapan menjadi refleksi kehidupan manusia akan banyaknya sifat angkara yang mementingkan perut dan kesenangannya sendiri\, ketidakpedulian\, kepentingan pribadi\, seperti halnya yang dideskripsikan pada seekor celeng/babi. Melengkapi acara ini ditampilkan pula pertunjukan tari bertajuk “Branjang Kawat” dari SMKN 12 Surabaya.\n\n1. Workshop Tari Kontemporer:\nRabu\, 14 Mei 2025\, pukul 16.00-18.00 WIB Kuota terbatas\, max. 20 orang \n \n2. Performance: \nKamis\, 15 Mei 2025\, pukul 19.00 Opening gate: 18.30 WIB \n\nSeluruh kegiatan ini diadakan di Gedung Cak Durasim\, Taman Budaya Jawa Timur\, Jl. Gentengkali 85 Surabaya. Pendaftaran Workshop dan Pertunjukan: linktr.ee/WismaJerman \nInfo: 0812 3370 1773 (WA only) \n \nAcara ini didukung sepenuhnya oleh Dimar Dance Theatre\, SMKN 12 Surabaya dan KLIK FM Surabaya. \nGRATIS dan TERBUKA UNTUK UMUM
URL:https://wisma-jerman.or.id/event/ritus-negeri-celeng/
LOCATION:Gd. Cak Durasim\, Surabaya\, Indonesia
CATEGORIES:Performance,Workshop
ATTACH;FMTTYPE=image/jpeg:https://wisma-jerman.or.id/wp-content/uploads/2026/04/WhatsApp-Image-2025-04-30-at-11.16.50-AM.jpeg
END:VEVENT
BEGIN:VEVENT
DTSTART;TZID=Asia/Jakarta:20250522T190000
DTEND;TZID=Asia/Jakarta:20250522T203000
DTSTAMP:20260422T050042
CREATED:20260409T083123Z
LAST-MODIFIED:20260409T083123Z
UID:8437-1747940400-1747945800@wisma-jerman.or.id
SUMMARY:Infopoint: Familiennachzug der Weg zu einem gemeinsamen Leben in Deutschland (mit Juristin)
DESCRIPTION:Familiennachzug: Der Weg zu einem gemeinsamen Leben in Deutschland \nWie hole ich meine Familie zu mir nach Deutschland und welche Regeln muss ich dabei beachten? 👨‍👩‍👧 Antworten auf all deine Fragen zum Familiennachzug gibt es in unserer kostenlosen Onlineveranstaltung. \n#neuindeutschland #lebenindeutschland #ankommenindeutschland #arbeitenindeutschland #meinwegnachdeutschland #mwnd
URL:https://wisma-jerman.or.id/event/infopoint-familiennachzug-der-weg-zu-einem-gemeinsamen-leben-in-deutschland-mit-juristin/
LOCATION:Jawa Timur
CATEGORIES:Seminar Online
ATTACH;FMTTYPE=image/png:https://wisma-jerman.or.id/wp-content/uploads/2026/04/Kopie-von-Familiennachzug-und-Ausbildung-in-D-IG-Feed-1.png
END:VEVENT
BEGIN:VEVENT
DTSTART;TZID=Asia/Jakarta:20250523T183000
DTEND;TZID=Asia/Jakarta:20250523T210000
DTSTAMP:20260422T050042
CREATED:20260409T080901Z
LAST-MODIFIED:20260409T080901Z
UID:8429-1748025000-1748034000@wisma-jerman.or.id
SUMMARY:KIWO MEI 2025
DESCRIPTION:“Franky Five Star” 110 menit\, English subtitle. \nRuang Halle\, Jumat\, 23 Mei 2025 pukul 18:30. \n \nFranky\, seorang wanita yang menderita gangguan kepribadian ganda. Dia mengalami kesulitan untuk mengatur empat karakter lain yang hidup di dalam dirinya. Ia merasa seperti tinggal di sebuah hotel kuno yang berada di wilayah antah-berantah. \n \nRSVP: https://KIWOMAI2025\nAcara ini didukung oleh Goethe Institute \n \nGRATIS dan TERBUKA UNTUK UMUM\n\n\n\n 
URL:https://wisma-jerman.or.id/event/kiwo-mei-2025/
LOCATION:Wisma Jerman\, Surabaya\, Jl. Taman AIS Nasution No.15\, Embong Kaliasin\, Kec. Genteng\,\, Surabaya\, Jawa Timur\, 60271\, Indonesia
CATEGORIES:Cinema
ATTACH;FMTTYPE=image/jpeg:https://wisma-jerman.or.id/wp-content/uploads/2026/04/KiWo-Mei-2025.jpg
END:VEVENT
BEGIN:VEVENT
DTSTART;TZID=Asia/Jakarta:20250524T100000
DTEND;TZID=Asia/Jakarta:20250525T160000
DTSTAMP:20260422T050042
CREATED:20260409T081328Z
LAST-MODIFIED:20260409T081328Z
UID:8431-1748080800-1748188800@wisma-jerman.or.id
SUMMARY:SURABAYA READ AND PLAY
DESCRIPTION:Sebuah langkah awal dalam membangun ekosistem literasi yang lebih kuat\, sekaligus memperkenalkan pendekatan baru dalam membaca dan belajar melalui pengalaman yang lebih interaktif dan menyenangkan menggunakan e-book dan board game. Sebuah event inspiratif yang menggabungkan literasi dan board game dalam satu pengalaman seru.\n \n#BacaBermainDiSurabaya\,persembahan Esensi Semesta\, Papan Dolanan Arek Suroboyo (PADAS) bekerjasama dengan Wisma Jerman. \n \nSabtu\, 24 Mei 2025 Pukul 10.00-14.00 \nRuang Halle Wisma Jerman\, Jl. Taman AIS Nasution 15 Surabaya \n \nMinggu\, 25 Mei 2025 Pukul 10.00-16.00\nRuang Halle dan Ruang Frankfurt Wisma Jerman\, Jl. Taman AIS Nasution 15 Surabaya \n \nGRATIS dan TERBUKA UNTUK UMUM \nInfo: +62 812-3510-8908 (Yoppi) dan +62 812-3110-935 (Adhicipta)
URL:https://wisma-jerman.or.id/event/surabaya-read-and-play/
LOCATION:Wisma Jerman\, Surabaya\, Jl. Taman AIS Nasution No.15\, Embong Kaliasin\, Kec. Genteng\,\, Surabaya\, Jawa Timur\, 60271\, Indonesia
CATEGORIES:Diskusi Interaktif,Seminar
ATTACH;FMTTYPE=image/jpeg:https://wisma-jerman.or.id/wp-content/uploads/2026/04/Surabaya-Read-and-Play.jpg
END:VEVENT
BEGIN:VEVENT
DTSTART;TZID=Asia/Jakarta:20250528T173000
DTEND;TZID=Asia/Jakarta:20250528T203000
DTSTAMP:20260422T050042
CREATED:20260409T082252Z
LAST-MODIFIED:20260409T082252Z
UID:8435-1748453400-1748464200@wisma-jerman.or.id
SUMMARY:Infopoint: Langkah Menuju Jerman - Tinggal dan Bekerja di Jerman
DESCRIPTION:Langkah Menuju Jerman – 28.05.2025 jam 17.30 WIB \n \nIn diesem interaktiven Vortrag der Zentralen Auslands- und Fachvermittlung der Bundesagentur für Arbeit erhältst du Informationen rund um das Leben und Arbeiten in Deutschland. \nIn dieser einstündigen\, interaktiven Informationsveranstaltung\, durchgeführt von der Zentralen Auslands- und Fachvermittlung der Bundesagentur für Arbeit\, erhältst du wertvolle Tipps und Hinweise zu folgenden Themen: \n• Anerkennung von akademischen und beruflichen Abschlüssen \n• Arbeitsplatz- und Ausbildungssuche \n• Bewerbungsschreiben und Vorstellungsgespräche \n• Sozialversicherungssystem in Deutschland \n \nGerne kannst du deine eigenen Fragen stellen. Wir freuen uns auf deine Teilnahme! Die Teilnahme ist kostenlos.\n\nAn wen richtet sich der Kurs? \nDas Projekt wird vom Asyl- Migrations- und Integrationsfonds (AMIF) kofinanziert und richtet sich an Drittstaatsangehörige in Deutschland und kurz vor Einreise nach Deutschland.\nStudierende gehören nicht zur Zielgruppe.\n\nDu kannst dich anmelden\, wenn du Drittstaatsangehörige*r bist und einen dieser Aufenthaltstitel hast:\n\n• Aufenthaltserlaubnis zur Durchführung einer Berufsausbildung\, Ausbildungsplatzsuche\, Anerkennung ausländischer \nBerufsqualifikationen\, Arbeit\, Arbeitsplatzsuche\, Ehegatten- oder Familiennachzug \n• Visum oder Visumsantrag für die oben genannten Aufenthaltszwecke \n• Blaue Karte EU \n• Aufenthaltserlaubnis nach § 24 Abs. 1 AufenthG
URL:https://wisma-jerman.or.id/event/infopoint-langkah-menuju-jerman-tinggal-dan-bekerja-di-jerman/
LOCATION:Jawa Timur
CATEGORIES:Seminar,Workshop
ATTACH;FMTTYPE=image/jpeg:https://wisma-jerman.or.id/wp-content/uploads/2026/04/Veranstaltung.jpg
END:VEVENT
END:VCALENDAR