BEGIN:VCALENDAR
VERSION:2.0
PRODID:-//Wisma Jerman - ECPv6.9.0//NONSGML v1.0//EN
CALSCALE:GREGORIAN
METHOD:PUBLISH
X-WR-CALNAME:Wisma Jerman
X-ORIGINAL-URL:https://wisma-jerman.or.id
X-WR-CALDESC:Events for Wisma Jerman
REFRESH-INTERVAL;VALUE=DURATION:PT1H
X-Robots-Tag:noindex
X-PUBLISHED-TTL:PT1H
BEGIN:VTIMEZONE
TZID:Asia/Jakarta
BEGIN:STANDARD
TZOFFSETFROM:+0700
TZOFFSETTO:+0700
TZNAME:WIB
DTSTART:20250101T000000
END:STANDARD
END:VTIMEZONE
BEGIN:VEVENT
DTSTART;TZID=Asia/Jakarta:20250710T100000
DTEND;TZID=Asia/Jakarta:20250710T123000
DTSTAMP:20260422T083105
CREATED:20260409T055044Z
LAST-MODIFIED:20260409T055044Z
UID:8409-1752141600-1752150600@wisma-jerman.or.id
SUMMARY:Infopoint: Deutschlandrundreise - Hannover
DESCRIPTION:Deutschlandrundreise – Hannover\nSabtu\, 12 Juli 2025 jam 10.00 – 11.30 WIB GRATIS \ndengan pendaftaran di forms.office.com/r/NNNR6ckEzp
URL:https://wisma-jerman.or.id/event/infopoint-deutschlandrundreise-hannover/
LOCATION:Wisma Jerman\, Surabaya\, Jl. Taman AIS Nasution No.15\, Embong Kaliasin\, Kec. Genteng\,\, Surabaya\, Jawa Timur\, 60271\, Indonesia
CATEGORIES:Seminar,Workshop
ATTACH;FMTTYPE=image/jpeg:https://wisma-jerman.or.id/wp-content/uploads/2026/04/WhatsApp-Image-2025-07-03-at-11.06.57-AM.jpeg
END:VEVENT
BEGIN:VEVENT
DTSTART;TZID=Asia/Jakarta:20250719T183000
DTEND;TZID=Asia/Jakarta:20250719T183000
DTSTAMP:20260422T083105
CREATED:20260409T060418Z
LAST-MODIFIED:20260409T060418Z
UID:8419-1752949800-1752949800@wisma-jerman.or.id
SUMMARY:SEDNOID (experimental music performance)
DESCRIPTION:Musik menjadi ruang penerimaan dan sensibilitas. Konstantin Heuer (musisi elektronik dari Jerman)\, mencoba ingin menciptakan pengalaman mendengarkan suara yang menarik sensasi bernuansa diiringi kejujuran emosional. Sebuah perpaduan karya orkestra\, yang membuat musik elektronik menarik untuk didengarkan\, menghanyutkan (sednoid) untuk lantai dansa.\n\nTerinspirasi dari zaman Renaissance\, baroque\, sastra klasik hingga gamelan\, maka terbangun bahasa nada baru dalam intonasi yang kaya makna. Pada momen ini sobat Wisjer juga dapat merasakan eksperimen musik yang lain bersama musisi-musisi serupa lokal Surabaya\, antara lain: Gatra\, PONGOR by WAFT-LAB dan Dunia Dalam Analog.\n\nRuang Samping Headquarters (RSHQ)\, Jl. Manunggal Kebonsari 10 Surabaya https://maps.app.goo.gl/z9Ka5XxT91ndyzQ17 \nSabtu\, 19 Juli 2025\, pukul 18.30-selesai
URL:https://wisma-jerman.or.id/event/sednoid-experimental-music-performance/
LOCATION:Jawa Timur
CATEGORIES:Performance,Workshop
ATTACH;FMTTYPE=image/jpeg:https://wisma-jerman.or.id/wp-content/uploads/2026/04/Promosi-SEDNOID-sementara.jpg
END:VEVENT
BEGIN:VEVENT
DTSTART;TZID=Asia/Jakarta:20250723T160000
DTEND;TZID=Asia/Jakarta:20250723T180000
DTSTAMP:20260422T083105
CREATED:20260409T060107Z
LAST-MODIFIED:20260409T060107Z
UID:8415-1753286400-1753293600@wisma-jerman.or.id
SUMMARY:GADO-GADO BAHASA DUNIA - JULI
DESCRIPTION:Wisma Jerman dan IFI Surabaya kembali mempersembahkan Gado Gado Bahasa Dunia Kesempatan untuk menjalin networking secara internasional\, belajar bahasa asing secara singkat\, mengenal sejumlah budaya negara\, mengikuti permainan dll..\n \nRabu\, 23 Juli 2025 pukul 16.00-18.00 (tbc)\n\n \nAcara ini GRATIS dan TERBUKA UNTUK UMUM. 
URL:https://wisma-jerman.or.id/event/gado-gado-bahasa-dunia-juli/
LOCATION:Jawa Timur
CATEGORIES:Collaboration,Conversation
ATTACH;FMTTYPE=image/jpeg:https://wisma-jerman.or.id/wp-content/uploads/2026/04/Promosi-Gado2-Bahasa-Dunia-sementara-scaled.jpg
END:VEVENT
BEGIN:VEVENT
DTSTART;TZID=Asia/Jakarta:20250723T190000
DTEND;TZID=Asia/Jakarta:20250723T203000
DTSTAMP:20260422T083105
CREATED:20260409T054710Z
LAST-MODIFIED:20260409T054710Z
UID:8406-1753297200-1753302600@wisma-jerman.or.id
SUMMARY:Info Session: Stark im Alltag
DESCRIPTION:Stark im Alltag: Strategien gegen Rassismus und Diskriminierung\nRabu\, 23.07.2025 jam 19.00 – 20.30 WIB GRATIS\ndengan pendaftaran di forms.office.com/r/KuA9RCGKDe
URL:https://wisma-jerman.or.id/event/info-session-stark-im-alltag/
LOCATION:Jawa Timur
CATEGORIES:Seminar Online
ATTACH;FMTTYPE=image/jpeg:https://wisma-jerman.or.id/wp-content/uploads/2026/04/WhatsApp-Image-2025-07-03-at-12.08.04-PM.jpeg
END:VEVENT
BEGIN:VEVENT
DTSTART;TZID=Asia/Jakarta:20250725T190000
DTEND;TZID=Asia/Jakarta:20250725T210000
DTSTAMP:20260422T083105
CREATED:20260409T055418Z
LAST-MODIFIED:20260409T055418Z
UID:8412-1753470000-1753477200@wisma-jerman.or.id
SUMMARY:KIWO JULI 2025
DESCRIPTION:“The Trouble With Being Born” 94 menit\, English subtitle.\nRuang Halle\, Jumat\, 25 Juli 2025 pukul 18:30.\n\nSinopsis :\nElli\, sebuah android yang diprogram dengan kenangan yang sangat berarti bagi pemiliknya\, tetapi tidak berarti apa-apa baginya.Kisah tentang sebuah mesin dan hantu yang kita semua bawa di dalam diri kita.\n\nAcara ini didukung oleh Goethe Institute GRATIS dan TERBUKA UNTUK UMUM.\n\n\n\n 
URL:https://wisma-jerman.or.id/event/kiwo-juli-2025/
LOCATION:Wisma Jerman\, Surabaya\, Jl. Taman AIS Nasution No.15\, Embong Kaliasin\, Kec. Genteng\,\, Surabaya\, Jawa Timur\, 60271\, Indonesia
CATEGORIES:Cinema
ATTACH;FMTTYPE=image/jpeg:https://wisma-jerman.or.id/wp-content/uploads/2026/04/KiWo1.jpg
END:VEVENT
END:VCALENDAR